DSET ^V10_d01z-2d.grd
TITLE SCALE3 data output
OPTIONS BIG_ENDIAN
UNDEF -9.9999001E+30
XDEF 250 LEVELS 1.5000000E+00 4.5000000E+00 7.5000000E+00 1.0500000E+01 1.3500000E+01 1.6500000E+01 1.9500000E+01 2.2500000E+01 2.5500000E+01 2.8500000E+01 3.1500000E+01 3.4500000E+01 3.7500000E+01 4.0500000E+01 4.3500000E+01 4.6500000E+01 4.9500000E+01 5.2500000E+01 5.5500000E+01 5.8500000E+01 6.1500000E+01 6.4500000E+01 6.7500000E+01 7.0500000E+01 7.3500000E+01 7.6500000E+01 7.9500000E+01 8.2500000E+01 8.5500000E+01 8.8500000E+01 9.1500000E+01 9.4500000E+01 9.7500000E+01 1.0050000E+02 1.0350000E+02 1.0650000E+02 1.0950000E+02 1.1250000E+02 1.1550000E+02 1.1850000E+02 1.2150000E+02 1.2450000E+02 1.2750000E+02 1.3050000E+02 1.3350000E+02 1.3650000E+02 1.3950000E+02 1.4250000E+02 1.4550000E+02 1.4850000E+02 1.5150000E+02 1.5450000E+02 1.5750000E+02 1.6050000E+02 1.6350000E+02 1.6650000E+02 1.6950000E+02 1.7250000E+02 1.7550000E+02 1.7850000E+02 1.8150000E+02 1.8450000E+02 1.8750000E+02 1.9050000E+02 1.9350000E+02 1.9650000E+02 1.9950000E+02 2.0250000E+02 2.0550000E+02 2.0850000E+02 2.1150000E+02 2.1450000E+02 2.1750000E+02 2.2050000E+02 2.2350000E+02 2.2650000E+02 2.2950000E+02 2.3250000E+02 2.3550000E+02 2.3850000E+02 2.4150000E+02 2.4450000E+02 2.4750000E+02 2.5050000E+02 2.5350000E+02 2.5650000E+02 2.5950000E+02 2.6250000E+02 2.6550000E+02 2.6850000E+02 2.7150000E+02 2.7450000E+02 2.7750000E+02 2.8050000E+02 2.8350000E+02 2.8650000E+02 2.8950000E+02 2.9250000E+02 2.9550000E+02 2.9850000E+02 3.0150000E+02 3.0450000E+02 3.0750000E+02 3.1050000E+02 3.1350000E+02 3.1650000E+02 3.1950000E+02 3.2250000E+02 3.2550000E+02 3.2850000E+02 3.3150000E+02 3.3450000E+02 3.3750000E+02 3.4050000E+02 3.4350000E+02 3.4650000E+02 3.4950000E+02 3.5250000E+02 3.5550000E+02 3.5850000E+02 3.6150000E+02 3.6450000E+02 3.6750000E+02 3.7050000E+02 3.7350000E+02 3.7650000E+02 3.7950000E+02 3.8250000E+02 3.8550000E+02 3.8850000E+02 3.9150000E+02 3.9450000E+02 3.9750000E+02 4.0050000E+02 4.0350000E+02 4.0650000E+02 4.0950000E+02 4.1250000E+02 4.1550000E+02 4.1850000E+02 4.2150000E+02 4.2450000E+02 4.2750000E+02 4.3050000E+02 4.3350000E+02 4.3650000E+02 4.3950000E+02 4.4250000E+02 4.4550000E+02 4.4850000E+02 4.5150000E+02 4.5450000E+02 4.5750000E+02 4.6050000E+02 4.6350000E+02 4.6650000E+02 4.6950000E+02 4.7250000E+02 4.7550000E+02 4.7850000E+02 4.8150000E+02 4.8450000E+02 4.8750000E+02 4.9050000E+02 4.9350000E+02 4.9650000E+02 4.9950000E+02 5.0250000E+02 5.0550000E+02 5.0850000E+02 5.1150000E+02 5.1450000E+02 5.1750000E+02 5.2050000E+02 5.2350000E+02 5.2650000E+02 5.2950000E+02 5.3250000E+02 5.3550000E+02 5.3850000E+02 5.4150000E+02 5.4450000E+02 5.4750000E+02 5.5050000E+02 5.5350000E+02 5.5650000E+02 5.5950000E+02 5.6250000E+02 5.6550000E+02 5.6850000E+02 5.7150000E+02 5.7450000E+02 5.7750000E+02 5.8050000E+02 5.8350000E+02 5.8650000E+02 5.8950000E+02 5.9250000E+02 5.9550000E+02 5.9850000E+02 6.0150000E+02 6.0450000E+02 6.0750000E+02 6.1050000E+02 6.1350000E+02 6.1650000E+02 6.1950000E+02 6.2250000E+02 6.2550000E+02 6.2850000E+02 6.3150000E+02 6.3450000E+02 6.3750000E+02 6.4050000E+02 6.4350000E+02 6.4650000E+02 6.4950000E+02 6.5250000E+02 6.5550000E+02 6.5850000E+02 6.6150000E+02 6.6450000E+02 6.6750000E+02 6.7050000E+02 6.7350000E+02 6.7650000E+02 6.7950000E+02 6.8250000E+02 6.8550000E+02 6.8850000E+02 6.9150000E+02 6.9450000E+02 6.9750000E+02 7.0050000E+02 7.0350000E+02 7.0650000E+02 7.0950000E+02 7.1250000E+02 7.1550000E+02 7.1850000E+02 7.2150000E+02 7.2450000E+02 7.2750000E+02 7.3050000E+02 7.3350000E+02 7.3650000E+02 7.3950000E+02 7.4250000E+02 7.4550000E+02 7.4850000E+02
YDEF 352 LEVELS 1.5000000E+00 4.5000000E+00 7.5000000E+00 1.0500000E+01 1.3500000E+01 1.6500000E+01 1.9500000E+01 2.2500000E+01 2.5500000E+01 2.8500000E+01 3.1500000E+01 3.4500000E+01 3.7500000E+01 4.0500000E+01 4.3500000E+01 4.6500000E+01 4.9500000E+01 5.2500000E+01 5.5500000E+01 5.8500000E+01 6.1500000E+01 6.4500000E+01 6.7500000E+01 7.0500000E+01 7.3500000E+01 7.6500000E+01 7.9500000E+01 8.2500000E+01 8.5500000E+01 8.8500000E+01 9.1500000E+01 9.4500000E+01 9.7500000E+01 1.0050000E+02 1.0350000E+02 1.0650000E+02 1.0950000E+02 1.1250000E+02 1.1550000E+02 1.1850000E+02 1.2150000E+02 1.2450000E+02 1.2750000E+02 1.3050000E+02 1.3350000E+02 1.3650000E+02 1.3950000E+02 1.4250000E+02 1.4550000E+02 1.4850000E+02 1.5150000E+02 1.5450000E+02 1.5750000E+02 1.6050000E+02 1.6350000E+02 1.6650000E+02 1.6950000E+02 1.7250000E+02 1.7550000E+02 1.7850000E+02 1.8150000E+02 1.8450000E+02 1.8750000E+02 1.9050000E+02 1.9350000E+02 1.9650000E+02 1.9950000E+02 2.0250000E+02 2.0550000E+02 2.0850000E+02 2.1150000E+02 2.1450000E+02 2.1750000E+02 2.2050000E+02 2.2350000E+02 2.2650000E+02 2.2950000E+02 2.3250000E+02 2.3550000E+02 2.3850000E+02 2.4150000E+02 2.4450000E+02 2.4750000E+02 2.5050000E+02 2.5350000E+02 2.5650000E+02 2.5950000E+02 2.6250000E+02 2.6550000E+02 2.6850000E+02 2.7150000E+02 2.7450000E+02 2.7750000E+02 2.8050000E+02 2.8350000E+02 2.8650000E+02 2.8950000E+02 2.9250000E+02 2.9550000E+02 2.9850000E+02 3.0150000E+02 3.0450000E+02 3.0750000E+02 3.1050000E+02 3.1350000E+02 3.1650000E+02 3.1950000E+02 3.2250000E+02 3.2550000E+02 3.2850000E+02 3.3150000E+02 3.3450000E+02 3.3750000E+02 3.4050000E+02 3.4350000E+02 3.4650000E+02 3.4950000E+02 3.5250000E+02 3.5550000E+02 3.5850000E+02 3.6150000E+02 3.6450000E+02 3.6750000E+02 3.7050000E+02 3.7350000E+02 3.7650000E+02 3.7950000E+02 3.8250000E+02 3.8550000E+02 3.8850000E+02 3.9150000E+02 3.9450000E+02 3.9750000E+02 4.0050000E+02 4.0350000E+02 4.0650000E+02 4.0950000E+02 4.1250000E+02 4.1550000E+02 4.1850000E+02 4.2150000E+02 4.2450000E+02 4.2750000E+02 4.3050000E+02 4.3350000E+02 4.3650000E+02 4.3950000E+02 4.4250000E+02 4.4550000E+02 4.4850000E+02 4.5150000E+02 4.5450000E+02 4.5750000E+02 4.6050000E+02 4.6350000E+02 4.6650000E+02 4.6950000E+02 4.7250000E+02 4.7550000E+02 4.7850000E+02 4.8150000E+02 4.8450000E+02 4.8750000E+02 4.9050000E+02 4.9350000E+02 4.9650000E+02 4.9950000E+02 5.0250000E+02 5.0550000E+02 5.0850000E+02 5.1150000E+02 5.1450000E+02 5.1750000E+02 5.2050000E+02 5.2350000E+02 5.2650000E+02 5.2950000E+02 5.3250000E+02 5.3550000E+02 5.3850000E+02 5.4150000E+02 5.4450000E+02 5.4750000E+02 5.5050000E+02 5.5350000E+02 5.5650000E+02 5.5950000E+02 5.6250000E+02 5.6550000E+02 5.6850000E+02 5.7150000E+02 5.7450000E+02 5.7750000E+02 5.8050000E+02 5.8350000E+02 5.8650000E+02 5.8950000E+02 5.9250000E+02 5.9550000E+02 5.9850000E+02 6.0150000E+02 6.0450000E+02 6.0750000E+02 6.1050000E+02 6.1350000E+02 6.1650000E+02 6.1950000E+02 6.2250000E+02 6.2550000E+02 6.2850000E+02 6.3150000E+02 6.3450000E+02 6.3750000E+02 6.4050000E+02 6.4350000E+02 6.4650000E+02 6.4950000E+02 6.5250000E+02 6.5550000E+02 6.5850000E+02 6.6150000E+02 6.6450000E+02 6.6750000E+02 6.7050000E+02 6.7350000E+02 6.7650000E+02 6.7950000E+02 6.8250000E+02 6.8550000E+02 6.8850000E+02 6.9150000E+02 6.9450000E+02 6.9750000E+02 7.0050000E+02 7.0350000E+02 7.0650000E+02 7.0950000E+02 7.1250000E+02 7.1550000E+02 7.1850000E+02 7.2150000E+02 7.2450000E+02 7.2750000E+02 7.3050000E+02 7.3350000E+02 7.3650000E+02 7.3950000E+02 7.4250000E+02 7.4550000E+02 7.4850000E+02 7.5150000E+02 7.5450000E+02 7.5750000E+02 7.6050000E+02 7.6350000E+02 7.6650000E+02 7.6950000E+02 7.7250000E+02 7.7550000E+02 7.7850000E+02 7.8150000E+02 7.8450000E+02 7.8750000E+02 7.9050000E+02 7.9350000E+02 7.9650000E+02 7.9950000E+02 8.0250000E+02 8.0550000E+02 8.0850000E+02 8.1150000E+02 8.1450000E+02 8.1750000E+02 8.2050000E+02 8.2350000E+02 8.2650000E+02 8.2950000E+02 8.3250000E+02 8.3550000E+02 8.3850000E+02 8.4150000E+02 8.4450000E+02 8.4750000E+02 8.5050000E+02 8.5350000E+02 8.5650000E+02 8.5950000E+02 8.6250000E+02 8.6550000E+02 8.6850000E+02 8.7150000E+02 8.7450000E+02 8.7750000E+02 8.8050000E+02 8.8350000E+02 8.8650000E+02 8.8950000E+02 8.9250000E+02 8.9550000E+02 8.9850000E+02 9.0150000E+02 9.0450000E+02 9.0750000E+02 9.1050000E+02 9.1350000E+02 9.1650000E+02 9.1950000E+02 9.2250000E+02 9.2550000E+02 9.2850000E+02 9.3150000E+02 9.3450000E+02 9.3750000E+02 9.4050000E+02 9.4350000E+02 9.4650000E+02 9.4950000E+02 9.5250000E+02 9.5550000E+02 9.5850000E+02 9.6150000E+02 9.6450000E+02 9.6750000E+02 9.7050000E+02 9.7350000E+02 9.7650000E+02 9.7950000E+02 9.8250000E+02 9.8550000E+02 9.8850000E+02 9.9150000E+02 9.9450000E+02 9.9750000E+02 1.0005000E+03 1.0035000E+03 1.0065000E+03 1.0095000E+03 1.0125000E+03 1.0155000E+03 1.0185000E+03 1.0215000E+03 1.0245000E+03 1.0275000E+03 1.0305000E+03 1.0335000E+03 1.0365000E+03 1.0395000E+03 1.0425000E+03 1.0455000E+03 1.0485000E+03 1.0515000E+03 1.0545000E+03
ZDEF 1 LEVELS 3.5873241E-46
TDEF 16 LINEAR 00:00Z01JUN2016 1hr
VARS 1
V10 0 99 10m y-wind [m/s]
ENDVARS
